BEGIN:VCALENDAR
VERSION:2.0
PRODID:-//Arbeitskreis Hallesche Auenwälder zu Halle / Saale e.V. (AHA) - ECPv6.15.18//NONSGML v1.0//EN
CALSCALE:GREGORIAN
METHOD:PUBLISH
X-ORIGINAL-URL:https://www.web-conzept-mn.de
X-WR-CALDESC:Veranstaltungen für Arbeitskreis Hallesche Auenwälder zu Halle / Saale e.V. (AHA)
REFRESH-INTERVAL;VALUE=DURATION:PT1H
X-Robots-Tag:noindex
X-PUBLISHED-TTL:PT1H
BEGIN:VTIMEZONE
TZID:Europe/Helsinki
BEGIN:DAYLIGHT
TZOFFSETFROM:+0200
TZOFFSETTO:+0300
TZNAME:EEST
DTSTART:20230326T010000
END:DAYLIGHT
BEGIN:STANDARD
TZOFFSETFROM:+0300
TZOFFSETTO:+0200
TZNAME:EET
DTSTART:20231029T010000
END:STANDARD
BEGIN:DAYLIGHT
TZOFFSETFROM:+0200
TZOFFSETTO:+0300
TZNAME:EEST
DTSTART:20240331T010000
END:DAYLIGHT
BEGIN:STANDARD
TZOFFSETFROM:+0300
TZOFFSETTO:+0200
TZNAME:EET
DTSTART:20241027T010000
END:STANDARD
BEGIN:DAYLIGHT
TZOFFSETFROM:+0200
TZOFFSETTO:+0300
TZNAME:EEST
DTSTART:20250330T010000
END:DAYLIGHT
BEGIN:STANDARD
TZOFFSETFROM:+0300
TZOFFSETTO:+0200
TZNAME:EET
DTSTART:20251026T010000
END:STANDARD
END:VTIMEZONE
BEGIN:VEVENT
DTSTART;TZID=Europe/Helsinki:20240511T100000
DTEND;TZID=Europe/Helsinki:20240511T140000
DTSTAMP:20260423T130858
CREATED:20240326T141703Z
LAST-MODIFIED:20240326T141703Z
UID:48660-1715421600-1715436000@www.web-conzept-mn.de
SUMMARY:Arbeitseinsatz auf der Peißnitz
DESCRIPTION:Samstag\, den 11.05.\, um 10.00 Uhr\nArbeitseinsatz auf der Peißnitz\nTreffpunkt: Peißnitzhaus
URL:https://www.web-conzept-mn.de/event/arbeitseinsatz-auf-der-peissnitz-4/
LOCATION:Peißnitz\, Halle (Saale)
END:VEVENT
BEGIN:VEVENT
DTSTART;TZID=Europe/Helsinki:20240511T100000
DTEND;TZID=Europe/Helsinki:20240511T150000
DTSTAMP:20260423T130858
CREATED:20240326T144510Z
LAST-MODIFIED:20240326T144510Z
UID:48675-1715421600-1715439600@www.web-conzept-mn.de
SUMMARY:Wanderexkursion entlang der Fuhne bis zur Brödelgraben-Einmündung
DESCRIPTION:Samstag\, den 11.05.\, um 10.00 Uhr\nWanderexkursion entlang der Fuhne bis zur Brödelgraben-Einmündung\nRoute: Kurzer Aufenthalt im Naherholungsgebiet „Fuhneaue“ Wolfen mit dem Gondelteich zwecks Besichtigung\, Fortsetzung der Wanderung über den Fuhnetalweg bis zum Erlen-Eschen-Wald „Reudener Busch“ im Wolfener Naherholungsgebiet und LSG „Fuhneaue“ und anschließend bis zur Einmündung des Brödelgrabens in die Fuhne\, Fuhne-Überquerung über die Brücke unweit der Ortsumgehungsstra­ße von Salzfurtkapelle\, Fortsetzung der Tour über den Feld- und Wiesenweg bis zum Brödelgraben-Tunnel unter der BAB 9\, weiter über den Brödelgrabenweg – vorbei am Kiesabbaugebiet Reu­den-West – Rückmarsch über den Fuhnetalweg\, die Leipziger Straße (B 184) und die Eisenbahnstraße nach Wolfen bzw. zum Wolfener Bahnhof\nTreffpunkt: Bahnhof Wolfen\nDauer: ca. 5 Stunden\nHinweis: Voranmeldung bitte bis zum 10.05.2024\, 22.00 Uhr unter: 0176 – 568 796 31
URL:https://www.web-conzept-mn.de/event/wanderexkursion-entlang-der-fuhne-bis-zur-broedelgraben-einmuendung-3/
END:VEVENT
END:VCALENDAR