BEGIN:VCALENDAR
VERSION:2.0
PRODID:-//Arbeitskreis Hallesche Auenwälder zu Halle / Saale e.V. (AHA) - ECPv6.15.18//NONSGML v1.0//EN
CALSCALE:GREGORIAN
METHOD:PUBLISH
X-WR-CALNAME:Arbeitskreis Hallesche Auenwälder zu Halle / Saale e.V. (AHA)
X-ORIGINAL-URL:https://www.web-conzept-mn.de
X-WR-CALDESC:Veranstaltungen für Arbeitskreis Hallesche Auenwälder zu Halle / Saale e.V. (AHA)
REFRESH-INTERVAL;VALUE=DURATION:PT1H
X-Robots-Tag:noindex
X-PUBLISHED-TTL:PT1H
BEGIN:VTIMEZONE
TZID:Europe/Helsinki
BEGIN:DAYLIGHT
TZOFFSETFROM:+0200
TZOFFSETTO:+0300
TZNAME:EEST
DTSTART:20230326T010000
END:DAYLIGHT
BEGIN:STANDARD
TZOFFSETFROM:+0300
TZOFFSETTO:+0200
TZNAME:EET
DTSTART:20231029T010000
END:STANDARD
BEGIN:DAYLIGHT
TZOFFSETFROM:+0200
TZOFFSETTO:+0300
TZNAME:EEST
DTSTART:20240331T010000
END:DAYLIGHT
BEGIN:STANDARD
TZOFFSETFROM:+0300
TZOFFSETTO:+0200
TZNAME:EET
DTSTART:20241027T010000
END:STANDARD
BEGIN:DAYLIGHT
TZOFFSETFROM:+0200
TZOFFSETTO:+0300
TZNAME:EEST
DTSTART:20250330T010000
END:DAYLIGHT
BEGIN:STANDARD
TZOFFSETFROM:+0300
TZOFFSETTO:+0200
TZNAME:EET
DTSTART:20251026T010000
END:STANDARD
END:VTIMEZONE
BEGIN:VEVENT
DTSTART;TZID=Europe/Helsinki:20240420T100000
DTEND;TZID=Europe/Helsinki:20240420T150000
DTSTAMP:20260421T195019
CREATED:20240326T144143Z
LAST-MODIFIED:20240326T144155Z
UID:48672-1713607200-1713625200@www.web-conzept-mn.de
SUMMARY:Wanderexkursion durch den Salegaster Forst bis zum Schlangenberg bei Jeßnitz
DESCRIPTION:Samstag\, den 20.04.\, um 10.00 Uhr\nWanderexkursion durch den Salegaster Forst bis zum Schlangenberg bei Jeßnitz\nRoute: Auenrestwald „Wolfener Busch“\, Salegaster Chaussee\, Wiesenweg zur Mittellache\, Auewiesen bei Jeßnitz\, Waldweg zur Wegekreuzung „Invalidendreieck“\, Katzenbrücke\, Wanderweg am Schlangengra­ben entlang bis zur Brücke am Schlangenberg bei Jeßnitz\, Wander­weg zum Jeßnitzer Deich\, weiter über den Weg auf dem Deich und den Wanderweg bis zum Fuhne-Düker\, Überquerung der Schacht­grabenbrücke und weiter entlang der östlichen Fuhne bis zur Sied­lung „Am Busch“\, weiter über die Fußgängerbrücke über die Eisen­bahnstrecke Halle/Leipzig-Dessau\, Eisenbahnstraße\, Abschluss der Exkursion am Bahnhof Wolfen\nTreffpunkt: Bahnhof Wolfen\nDauer: ca. 5 Stunden\nHinweis: Voranmeldung bitte bis zum 19.04.2024\, 22.00 Uhr unter: 0176 – 568 796 31
URL:https://www.web-conzept-mn.de/event/wanderexkursion-durch-den-salegaster-forst-bis-zum-schlangenberg-bei-jessnitz/
LOCATION:Salegaster Forst\, Bitterfeld-Wolfen
END:VEVENT
BEGIN:VEVENT
DTSTART;TZID=Europe/Helsinki:20240420T100000
DTEND;TZID=Europe/Helsinki:20240420T160000
DTSTAMP:20260421T195019
CREATED:20240326T104040Z
LAST-MODIFIED:20240326T104416Z
UID:48604-1713607200-1713628800@www.web-conzept-mn.de
SUMMARY:Fahrradexkursion in die Saale-Elster-Luppe-Aue
DESCRIPTION:Samstag\, den 20.04.\, um 10.00 Uhr\nFahrradexkursion in die Saale-Elster-Luppe-Aue\nzwischen Halle (Saale) und Leipzig\nRoute: Diemitzer Graben\, die Reide\, Überlauf des Hufeisensees in die Reide\, Park von Dieskau\, durch die Saale-Elster-Luppe-Aue und entlang des Wallendorfer und des Raßnitzer Sees im Landkreis Saalekreis\, durch die Luppeaue bei Schkeuditz\, durch die Elster-Luppe-Nahle-Aue in der Stadt Leipzig sowie zum Mündungsbe­reich der Parthe\nTreffpunkt: Ecke Fiete-Schultze-Straße/Reideburger Straße\nEndpunkt: Hauptbahnhof Leipzig\nDauer: ca. 6 Stunden
URL:https://www.web-conzept-mn.de/event/fahrradexkursion-in-die-saale-elster-luppe-aue-3/
END:VEVENT
END:VCALENDAR