BEGIN:VCALENDAR
VERSION:2.0
PRODID:-//Arbeitskreis Hallesche Auenwälder zu Halle / Saale e.V. (AHA) - ECPv6.15.18//NONSGML v1.0//EN
CALSCALE:GREGORIAN
METHOD:PUBLISH
X-ORIGINAL-URL:https://www.web-conzept-mn.de
X-WR-CALDESC:Veranstaltungen für Arbeitskreis Hallesche Auenwälder zu Halle / Saale e.V. (AHA)
REFRESH-INTERVAL;VALUE=DURATION:PT1H
X-Robots-Tag:noindex
X-PUBLISHED-TTL:PT1H
BEGIN:VTIMEZONE
TZID:Europe/Helsinki
BEGIN:DAYLIGHT
TZOFFSETFROM:+0200
TZOFFSETTO:+0300
TZNAME:EEST
DTSTART:20230326T010000
END:DAYLIGHT
BEGIN:STANDARD
TZOFFSETFROM:+0300
TZOFFSETTO:+0200
TZNAME:EET
DTSTART:20231029T010000
END:STANDARD
BEGIN:DAYLIGHT
TZOFFSETFROM:+0200
TZOFFSETTO:+0300
TZNAME:EEST
DTSTART:20240331T010000
END:DAYLIGHT
BEGIN:STANDARD
TZOFFSETFROM:+0300
TZOFFSETTO:+0200
TZNAME:EET
DTSTART:20241027T010000
END:STANDARD
BEGIN:DAYLIGHT
TZOFFSETFROM:+0200
TZOFFSETTO:+0300
TZNAME:EEST
DTSTART:20250330T010000
END:DAYLIGHT
BEGIN:STANDARD
TZOFFSETFROM:+0300
TZOFFSETTO:+0200
TZNAME:EET
DTSTART:20251026T010000
END:STANDARD
END:VTIMEZONE
BEGIN:VEVENT
DTSTART;TZID=Europe/Helsinki:20240406T100000
DTEND;TZID=Europe/Helsinki:20240406T140000
DTSTAMP:20260421T195149
CREATED:20240326T141506Z
LAST-MODIFIED:20240326T141506Z
UID:48658-1712397600-1712412000@www.web-conzept-mn.de
SUMMARY:Arbeitseinsatz zur Bekämpfung des Riesen-Bärenklaus
DESCRIPTION:Samstag\, den 06.04.\, um 10.00 Uhr\nArbeitseinsatz zur Bekämpfung des Riesen-Bärenklaus\nam Saugrundbach und Wolferöder Graben\nTreffpunkt: Pfarrkirche St. Cyriacus (Parkplatz)\, Wimmelburg\n***\nAchtung! Bitte beachten! Gute Arbeitskleidung und -handschuhe mitbringen\, da durch direkte Berührung Hautreizungen drohen.
URL:https://www.web-conzept-mn.de/event/arbeitseinsatz-zur-bekaempfung-des-riesen-baerenklaus-2/
LOCATION:Wimmelburg
END:VEVENT
BEGIN:VEVENT
DTSTART;TZID=Europe/Helsinki:20240406T100000
DTEND;TZID=Europe/Helsinki:20240406T160000
DTSTAMP:20260421T195149
CREATED:20231227T214940Z
LAST-MODIFIED:20231227T214940Z
UID:46288-1712397600-1712419200@www.web-conzept-mn.de
SUMMARY:Fahrradexkursion zu den NSG "Saalberghau" und "Untere Mulde"
DESCRIPTION:Samstag\, den 06.04.\, um 10.00 Uhr\nFahrradexkursion zu den NSG „Saalberghau“ und „Untere Mulde“\nunweit des Mündungsbereiches der Mulde in die Elbe mit Vorstellung der Projektes Betreuung der Streuobstwiese „Am Landhaus“ und des geplanten Naturerkenntnispfades\nTreffpunkt: Bahnhof Roßlau\nDauer: ca. 6 Stunden
URL:https://www.web-conzept-mn.de/event/fahrradexkursion-zu-den-nsg-saalberghau-und-untere-mulde-2/
END:VEVENT
END:VCALENDAR