BEGIN:VCALENDAR
VERSION:2.0
PRODID:-//Arbeitskreis Hallesche Auenwälder zu Halle / Saale e.V. (AHA) - ECPv6.15.18//NONSGML v1.0//EN
CALSCALE:GREGORIAN
METHOD:PUBLISH
X-ORIGINAL-URL:https://www.web-conzept-mn.de
X-WR-CALDESC:Veranstaltungen für Arbeitskreis Hallesche Auenwälder zu Halle / Saale e.V. (AHA)
REFRESH-INTERVAL;VALUE=DURATION:PT1H
X-Robots-Tag:noindex
X-PUBLISHED-TTL:PT1H
BEGIN:VTIMEZONE
TZID:Europe/Helsinki
BEGIN:DAYLIGHT
TZOFFSETFROM:+0200
TZOFFSETTO:+0300
TZNAME:EEST
DTSTART:20230326T010000
END:DAYLIGHT
BEGIN:STANDARD
TZOFFSETFROM:+0300
TZOFFSETTO:+0200
TZNAME:EET
DTSTART:20231029T010000
END:STANDARD
BEGIN:DAYLIGHT
TZOFFSETFROM:+0200
TZOFFSETTO:+0300
TZNAME:EEST
DTSTART:20240331T010000
END:DAYLIGHT
BEGIN:STANDARD
TZOFFSETFROM:+0300
TZOFFSETTO:+0200
TZNAME:EET
DTSTART:20241027T010000
END:STANDARD
BEGIN:DAYLIGHT
TZOFFSETFROM:+0200
TZOFFSETTO:+0300
TZNAME:EEST
DTSTART:20250330T010000
END:DAYLIGHT
BEGIN:STANDARD
TZOFFSETFROM:+0300
TZOFFSETTO:+0200
TZNAME:EET
DTSTART:20251026T010000
END:STANDARD
END:VTIMEZONE
BEGIN:VEVENT
DTSTART;TZID=Europe/Helsinki:20240210T100000
DTEND;TZID=Europe/Helsinki:20240210T120000
DTSTAMP:20260421T165717
CREATED:20231227T205438Z
LAST-MODIFIED:20231227T205438Z
UID:46269-1707559200-1707566400@www.web-conzept-mn.de
SUMMARY:Neujahreswanderung in die Fasanerie in Köthen
DESCRIPTION:Samstag\, den 10.02.\, um 10.00 Uhr\nNeujahreswanderung in die Fasanerie in Köthen\nGemeinsam mit dem Bürgerbündnis für Köthen (Anhalt) e.V.\nTreffpunkt: Parkplatz Hochschule Anhalt/Zufahrt Creperie\, Ecke Fasanerieallee/Joachimiallee\, Köthen (Anhalt)\nDauer: ca. 2 Stunden
URL:https://www.web-conzept-mn.de/event/neujahreswanderung-in-die-fasanerie-in-koethen-2/
END:VEVENT
BEGIN:VEVENT
DTSTART;TZID=Europe/Helsinki:20240210T100000
DTEND;TZID=Europe/Helsinki:20240210T140000
DTSTAMP:20260421T165717
CREATED:20240206T124042Z
LAST-MODIFIED:20240206T124224Z
UID:46690-1707559200-1707573600@www.web-conzept-mn.de
SUMMARY:Erfassung der Avifauna des Naherholungsgebietes Fuhneaue Wolfen
DESCRIPTION:Samstag\, den 10.02.\, um 10.00 Uhr\nErfassung der Avifauna des Naherholungsgebietes Fuhneaue Wolfen mit dem Gondelteich im Winter\nBeobachtung der im Gebiet vorkommenden Vogelarten mit dem Fernglas und schriftliche Erfassung der gesichteten Tiere in Listen\nTreffpunkt: Bahnhof Wolfen\nDauer: ca. 4 Stunden
URL:https://www.web-conzept-mn.de/event/46690/
END:VEVENT
END:VCALENDAR