BEGIN:VCALENDAR
VERSION:2.0
PRODID:-//Arbeitskreis Hallesche Auenwälder zu Halle / Saale e.V. (AHA) - ECPv6.15.18//NONSGML v1.0//EN
CALSCALE:GREGORIAN
METHOD:PUBLISH
X-ORIGINAL-URL:https://www.web-conzept-mn.de
X-WR-CALDESC:Veranstaltungen für Arbeitskreis Hallesche Auenwälder zu Halle / Saale e.V. (AHA)
REFRESH-INTERVAL;VALUE=DURATION:PT1H
X-Robots-Tag:noindex
X-PUBLISHED-TTL:PT1H
BEGIN:VTIMEZONE
TZID:Europe/Helsinki
BEGIN:DAYLIGHT
TZOFFSETFROM:+0200
TZOFFSETTO:+0300
TZNAME:EEST
DTSTART:20220327T010000
END:DAYLIGHT
BEGIN:STANDARD
TZOFFSETFROM:+0300
TZOFFSETTO:+0200
TZNAME:EET
DTSTART:20221030T010000
END:STANDARD
BEGIN:DAYLIGHT
TZOFFSETFROM:+0200
TZOFFSETTO:+0300
TZNAME:EEST
DTSTART:20230326T010000
END:DAYLIGHT
BEGIN:STANDARD
TZOFFSETFROM:+0300
TZOFFSETTO:+0200
TZNAME:EET
DTSTART:20231029T010000
END:STANDARD
BEGIN:DAYLIGHT
TZOFFSETFROM:+0200
TZOFFSETTO:+0300
TZNAME:EEST
DTSTART:20240331T010000
END:DAYLIGHT
BEGIN:STANDARD
TZOFFSETFROM:+0300
TZOFFSETTO:+0200
TZNAME:EET
DTSTART:20241027T010000
END:STANDARD
END:VTIMEZONE
BEGIN:VEVENT
DTSTART;TZID=Europe/Helsinki:20231208T150000
DTEND;TZID=Europe/Helsinki:20231208T170000
DTSTAMP:20260421T134341
CREATED:20230705T103939Z
LAST-MODIFIED:20230705T103939Z
UID:42845-1702047600-1702054800@www.web-conzept-mn.de
SUMMARY:Öffnungszeit der Umweltbibliothek Merseburg
DESCRIPTION:Freitag\, den 08.12.\, ab 15.00 bis 17.00 Uhr\nÖffnungszeit der Umweltbibliothek Merseburg\nTreffpunkt: Umweltbibliothek Merseburg\, Weiße Mauer 33\, Merseburg
URL:https://www.web-conzept-mn.de/event/oeffnungszeit-der-umweltbibliothek-merseburg-51/
LOCATION:Umweltbibliothek Merseburg\, Weiße Mauer 33\, Merseburg\, 06217\, Deutschland
ORGANIZER;CN="AHA Halle (Saale) e.V.%2C UB Merseburg":MAILTO:ubm2021@yahoo.com
END:VEVENT
BEGIN:VEVENT
DTSTART;TZID=Europe/Helsinki:20231208T180000
DTEND;TZID=Europe/Helsinki:20231208T220000
DTSTAMP:20260421T134341
CREATED:20230705T003727Z
LAST-MODIFIED:20230705T003825Z
UID:42717-1702058400-1702072800@www.web-conzept-mn.de
SUMMARY:Weihnachtsfeier
DESCRIPTION:Freitag\, den 08.12.\, um 18.00 Uhr\nWeihnachtsfeier\nBitte Gebäck und Getränke mitbringen!\nOrt: Versammlungsraum des Reformhaus e.V.\, Große Klausstraße 11 in Halle (Saale)
URL:https://www.web-conzept-mn.de/event/42717/
LOCATION:Refomhaus – Haus der Bewegungen\, Große Klausstraße 11\, Halle (Saale)\, 06108\, Deutschland
END:VEVENT
END:VCALENDAR